BEGIN:VCALENDAR
VERSION:2.0
PRODID:-//Kerry&#039;s Place - ECPv6.15.17//NONSGML v1.0//EN
CALSCALE:GREGORIAN
METHOD:PUBLISH
X-ORIGINAL-URL:https://kerrysplace.org
X-WR-CALDESC:Events for Kerry&#039;s Place
REFRESH-INTERVAL;VALUE=DURATION:PT1H
X-Robots-Tag:noindex
X-PUBLISHED-TTL:PT1H
BEGIN:VTIMEZONE
TZID:America/Toronto
BEGIN:DAYLIGHT
TZOFFSETFROM:-0500
TZOFFSETTO:-0400
TZNAME:EDT
DTSTART:20230312T070000
END:DAYLIGHT
BEGIN:STANDARD
TZOFFSETFROM:-0400
TZOFFSETTO:-0500
TZNAME:EST
DTSTART:20231105T060000
END:STANDARD
BEGIN:DAYLIGHT
TZOFFSETFROM:-0500
TZOFFSETTO:-0400
TZNAME:EDT
DTSTART:20240310T070000
END:DAYLIGHT
BEGIN:STANDARD
TZOFFSETFROM:-0400
TZOFFSETTO:-0500
TZNAME:EST
DTSTART:20241103T060000
END:STANDARD
BEGIN:DAYLIGHT
TZOFFSETFROM:-0500
TZOFFSETTO:-0400
TZNAME:EDT
DTSTART:20250309T070000
END:DAYLIGHT
BEGIN:STANDARD
TZOFFSETFROM:-0400
TZOFFSETTO:-0500
TZNAME:EST
DTSTART:20251102T060000
END:STANDARD
END:VTIMEZONE
BEGIN:VEVENT
DTSTART;TZID=America/Toronto:20240625T180000
DTEND;TZID=America/Toronto:20240625T210000
DTSTAMP:20260425T103152
CREATED:20240607T145018Z
LAST-MODIFIED:20240620T205919Z
UID:50243-1719338400-1719349200@kerrysplace.org
SUMMARY:Kerry’s Place Annual General Meeting 2024
DESCRIPTION:The Annual General Meetings for Kerry’s Place Autism Services (Kerry’s Place) and Kerry’s Place Residential Services (KPRS) will be held on Tuesday\, June 25\, 2024\, at the Sheraton Parkway Toronto North Hotel & Suites located at 600 Hwy 7\, Richmond Hill\, ON L4B 1B2 in the Vaughan Ballroom. \n\n\n\nThe Annual General Meeting is an opportunity for members to gather together\, learn about achievements from the last year\, and hear about upcoming initiatives for Kerry’s Place. A special tribute to celebrate the 50th Anniversary of Kerry’s Place will take place as part of the Annual General Meeting with speakers and special guests to mark the occasion.  \n\n\n\nClick here to see complete details\, including the event agenda\, and register!
URL:https://kerrysplace.org/event/kerrys-place-annual-general-meeting-2024/
LOCATION:Sheraton Parkway Toronto North Hotel & Suites\, 600 Hwy 7\, Richmond Hill\, Ontario\, L4B 1B2
END:VEVENT
END:VCALENDAR