BEGIN:VCALENDAR
VERSION:2.0
PRODID:-//Kerry&#039;s Place - ECPv6.15.17//NONSGML v1.0//EN
CALSCALE:GREGORIAN
METHOD:PUBLISH
X-WR-CALNAME:Kerry&#039;s Place
X-ORIGINAL-URL:https://kerrysplace.org
X-WR-CALDESC:Events for Kerry&#039;s Place
REFRESH-INTERVAL;VALUE=DURATION:PT1H
X-Robots-Tag:noindex
X-PUBLISHED-TTL:PT1H
BEGIN:VTIMEZONE
TZID:Asia/Karachi
BEGIN:STANDARD
TZOFFSETFROM:+0500
TZOFFSETTO:+0500
TZNAME:PKT
DTSTART:20230101T000000
END:STANDARD
END:VTIMEZONE
BEGIN:VEVENT
DTSTART;TZID=Asia/Karachi:20240603T163000
DTEND;TZID=Asia/Karachi:20240603T173000
DTSTAMP:20260423T111637
CREATED:20240527T104448Z
LAST-MODIFIED:20240617T193414Z
UID:49626-1717432200-1717435800@kerrysplace.org
SUMMARY:Drag Story Time: Ages 5 To 12
DESCRIPTION:Drag Story Time: Ages 5 To 12\n			June 3\, 2024\n	  @\n4:30 pm\n	  –\n5:30 pm\nUTC+5 \nKerry’s Place Autism Services invites you to our special edition of Sibling Story Time to celebrate Pride Month. This group is open to both individuals on the Autism Spectrum and their siblings. The group proudly presents Drag artist\, Lucinda Miu\, who will be reading the storybook “My Shadow is Purple”. \nDate: Monday\, June 3\, 2024Time: 4:30 PM to 5:30 PMCost: No cost to participate \nDrag Story Time Ages 5 to 12 will be delivered virtually via Zoom. The Zoom link will be e-mailed by Kerry’s Place staff two business days prior to the day of the scheduled event.  If you do not see the e-mail in your inbox\, please check your junk mail folder or spam folder. If you still haven’t received an e-mail with the Zoom Link\, please contact intake@kerrysplace.org  explaining the problem. We will do our best to answer your request as soon as possible. To ensure you do not miss communication from Kerry’s Place\, please add @kerrysplace.org to your safe sender list. \nTo participate\, the following is required: \n\nmobile device\, tablet or computer\ninternet connection\nspeakers and a microphone\nwebcam\n\n  \nPlease note: Registration does not guarantee a space in this webinar. To be eligible\, completion of a Kerry’s Place Autism Services intake meeting and additional documentation may be required to attend. \nRegister here. \nCancellation Policy:For full details of our cancellation policy\, see Cancellation Fees and Refunds at https://www.kerrysplace.org/policies/ \n\n\n\n	\n		Kerry’s Place Annual General Meeting 2024
URL:https://kerrysplace.org/event/drag-story-time-ages-5-to-12/
LOCATION:Virtual
CATEGORIES:Free
ATTACH;FMTTYPE=image/png:https://kerrysplace.org/wp-content/uploads/2024/05/siblingstorytimepridemonthbanner-1024x512-1.png
END:VEVENT
END:VCALENDAR